Package: spaSim Version: 1.9.0 Command: /home/biocbuild/R/R/bin/R CMD check --install=check:spaSim.install-out.txt --library=/home/biocbuild/R/R/site-library --no-vignettes --timings spaSim_1.9.0.tar.gz StartedAt: 2025-01-28 15:34:17 -0000 (Tue, 28 Jan 2025) EndedAt: 2025-01-28 15:40:57 -0000 (Tue, 28 Jan 2025) EllapsedTime: 399.4 seconds RetCode: 1 Status: ERROR CheckDir: spaSim.Rcheck Warnings: NA