Package: spaSim Version: 1.9.0 Command: /Library/Frameworks/R.framework/Resources/bin/R CMD check --install=check:spaSim.install-out.txt --library=/Library/Frameworks/R.framework/Resources/library --no-vignettes --timings spaSim_1.9.0.tar.gz StartedAt: 2025-02-12 23:32:04 -0500 (Wed, 12 Feb 2025) EndedAt: 2025-02-12 23:37:27 -0500 (Wed, 12 Feb 2025) EllapsedTime: 323.8 seconds RetCode: 0 Status: OK CheckDir: spaSim.Rcheck Warnings: 0