Package: spaSim Version: 1.9.0 Command: /Library/Frameworks/R.framework/Resources/bin/R CMD INSTALL spaSim StartedAt: 2025-02-09 15:16:01 -0500 (Sun, 09 Feb 2025) EndedAt: 2025-02-09 15:16:41 -0500 (Sun, 09 Feb 2025) EllapsedTime: 39.9 seconds RetCode: 0 Status: OK