Package: spaSim Version: 1.9.0 Command: /home/biocbuild/bbs-3.21-bioc/R/bin/R CMD build --keep-empty-dirs --no-resave-data spaSim StartedAt: 2025-02-03 19:30:54 -0500 (Mon, 03 Feb 2025) EndedAt: 2025-02-03 19:32:39 -0500 (Mon, 03 Feb 2025) EllapsedTime: 104.1 seconds RetCode: 0 Status: OK PackageFile: spaSim_1.9.0.tar.gz PackageFileSize: 3.439 MiB