Package: spaSim Version: 1.9.0 Command: /home/biocbuild/bbs-3.21-bioc/R/bin/R CMD INSTALL spaSim StartedAt: 2025-02-09 15:32:01 -0500 (Sun, 09 Feb 2025) EndedAt: 2025-02-09 15:32:26 -0500 (Sun, 09 Feb 2025) EllapsedTime: 25.4 seconds RetCode: 0 Status: OK