Package: sparrow Version: 1.13.4 Command: /Library/Frameworks/R.framework/Resources/bin/R CMD check --install=check:sparrow.install-out.txt --library=/Library/Frameworks/R.framework/Resources/library --no-vignettes --timings sparrow_1.13.4.tar.gz StartedAt: 2025-02-09 21:28:59 -0500 (Sun, 09 Feb 2025) EndedAt: 2025-02-09 21:32:48 -0500 (Sun, 09 Feb 2025) EllapsedTime: 228.5 seconds RetCode: 0 Status: OK CheckDir: sparrow.Rcheck Warnings: 0