Package: sparrow Version: 1.13.4 Command: /Library/Frameworks/R.framework/Resources/bin/R CMD INSTALL sparrow StartedAt: 2025-02-09 15:16:37 -0500 (Sun, 09 Feb 2025) EndedAt: 2025-02-09 15:16:49 -0500 (Sun, 09 Feb 2025) EllapsedTime: 11.7 seconds RetCode: 0 Status: OK