Package: sparrow Version: 1.13.4 Command: /home/biocbuild/R/R/bin/R CMD build --keep-empty-dirs --no-resave-data sparrow StartedAt: 2025-01-29 02:29:52 -0000 (Wed, 29 Jan 2025) EndedAt: 2025-01-29 02:34:47 -0000 (Wed, 29 Jan 2025) EllapsedTime: 295.2 seconds RetCode: 0 Status: OK PackageFile: sparrow_1.13.4.tar.gz PackageFileSize: 3.876 MiB