Package: sparrow Version: 1.13.4 Command: /home/biocbuild/R/R/bin/R CMD INSTALL sparrow StartedAt: 2025-01-29 20:09:14 -0000 (Wed, 29 Jan 2025) EndedAt: 2025-01-29 20:09:58 -0000 (Wed, 29 Jan 2025) EllapsedTime: 43.0 seconds RetCode: 0 Status: OK