Package: sparrow Version: 1.13.4 Command: /Library/Frameworks/R.framework/Resources/bin/R CMD check --install=check:sparrow.install-out.txt --library=/Library/Frameworks/R.framework/Resources/library --no-vignettes --timings sparrow_1.13.4.tar.gz StartedAt: 2025-02-09 23:46:14 -0500 (Sun, 09 Feb 2025) EndedAt: 2025-02-09 23:56:26 -0500 (Sun, 09 Feb 2025) EllapsedTime: 611.7 seconds RetCode: 0 Status: OK CheckDir: sparrow.Rcheck Warnings: 0