Package: sparrow Version: 1.13.4 Command: /home/biocbuild/bbs-3.21-bioc/R/bin/R CMD build --keep-empty-dirs --no-resave-data sparrow StartedAt: 2025-02-09 19:21:50 -0500 (Sun, 09 Feb 2025) EndedAt: 2025-02-09 19:25:07 -0500 (Sun, 09 Feb 2025) EllapsedTime: 197.1 seconds RetCode: 0 Status: OK PackageFile: sparrow_1.13.4.tar.gz PackageFileSize: 4.191 MiB