Package: sparrow Version: 1.13.4 Command: /home/biocbuild/bbs-3.21-bioc/R/bin/R CMD check --install=check:sparrow.install-out.txt --library=/home/biocbuild/bbs-3.21-bioc/R/site-library --timings sparrow_1.13.4.tar.gz StartedAt: 2025-02-13 02:51:33 -0500 (Thu, 13 Feb 2025) EndedAt: 2025-02-13 03:03:16 -0500 (Thu, 13 Feb 2025) EllapsedTime: 703.9 seconds RetCode: 0 Status: OK CheckDir: sparrow.Rcheck Warnings: 0