Package: sparrow Version: 1.13.4 Command: /home/biocbuild/bbs-3.21-bioc/R/bin/R CMD INSTALL sparrow StartedAt: 2025-02-12 15:29:08 -0500 (Wed, 12 Feb 2025) EndedAt: 2025-02-12 15:29:40 -0500 (Wed, 12 Feb 2025) EllapsedTime: 31.8 seconds RetCode: 0 Status: OK