Package: sparrow Version: 1.13.4 Command: E:\biocbuild\bbs-3.21-bioc\R\bin\R.exe CMD check --no-multiarch --install=check:sparrow.install-out.txt --library=E:\biocbuild\bbs-3.21-bioc\R\library --no-vignettes --timings sparrow_1.13.4.tar.gz StartedAt: 2025-02-10 05:39:17 -0500 (Mon, 10 Feb 2025) EndedAt: 2025-02-10 05:54:10 -0500 (Mon, 10 Feb 2025) EllapsedTime: 892.5 seconds RetCode: 0 Status: OK CheckDir: sparrow.Rcheck Warnings: 0