Package: sparrow Version: 1.13.4 Command: E:\biocbuild\bbs-3.21-bioc\R\bin\R.exe CMD INSTALL sparrow StartedAt: 2025-02-12 15:59:30 -0500 (Wed, 12 Feb 2025) EndedAt: 2025-02-12 16:01:05 -0500 (Wed, 12 Feb 2025) EllapsedTime: 95.8 seconds RetCode: 0 Status: OK