Package: sparseMatrixStats Version: 1.19.0 Command: rm -rf sparseMatrixStats.buildbin-libdir && mkdir sparseMatrixStats.buildbin-libdir && /Users/biocbuild/BBS/utils/build-universal.sh sparseMatrixStats_1.19.0.tar.gz /Library/Frameworks/R.framework/Resources/bin/R sparseMatrixStats.buildbin-libdir StartedAt: 2025-02-09 22:31:52 -0500 (Sun, 09 Feb 2025) EndedAt: 2025-02-09 22:32:02 -0500 (Sun, 09 Feb 2025) EllapsedTime: 10.2 seconds RetCode: 0 Status: OK PackageFile: sparseMatrixStats_1.19.0.tgz PackageFileSize: 1.124 MiB