Package: sparseMatrixStats Version: 1.19.0 Command: /home/biocbuild/R/R/bin/R CMD build --keep-empty-dirs --no-resave-data sparseMatrixStats StartedAt: 2025-01-29 02:30:25 -0000 (Wed, 29 Jan 2025) EndedAt: 2025-01-29 02:31:18 -0000 (Wed, 29 Jan 2025) EllapsedTime: 53.0 seconds RetCode: 0 Status: OK PackageFile: sparseMatrixStats_1.19.0.tar.gz PackageFileSize: 711 KiB