Package: sparseMatrixStats Version: 1.19.0 Command: /home/biocbuild/bbs-3.21-bioc/R/bin/R CMD INSTALL sparseMatrixStats StartedAt: 2025-02-09 15:05:33 -0500 (Sun, 09 Feb 2025) EndedAt: 2025-02-09 15:06:04 -0500 (Sun, 09 Feb 2025) EllapsedTime: 30.9 seconds RetCode: 0 Status: OK