Package: sparseMatrixStats Version: 1.19.0 Command: rm -rf sparseMatrixStats.buildbin-libdir && mkdir sparseMatrixStats.buildbin-libdir && E:\biocbuild\bbs-3.21-bioc\R\bin\R.exe CMD INSTALL --build --library=sparseMatrixStats.buildbin-libdir sparseMatrixStats_1.19.0.tar.gz StartedAt: 2025-02-10 08:46:11 -0500 (Mon, 10 Feb 2025) EndedAt: 2025-02-10 08:48:24 -0500 (Mon, 10 Feb 2025) EllapsedTime: 133.0 seconds RetCode: 0 Status: OK PackageFile: sparseMatrixStats_1.19.0.zip PackageFileSize: 1.426 MiB