Package: sparseMatrixStats Version: 1.19.0 Command: chmod a+r sparseMatrixStats -R && E:\biocbuild\bbs-3.21-bioc\R\bin\R.exe CMD build --keep-empty-dirs --no-resave-data sparseMatrixStats StartedAt: 2025-02-09 21:47:31 -0500 (Sun, 09 Feb 2025) EndedAt: 2025-02-09 21:48:41 -0500 (Sun, 09 Feb 2025) EllapsedTime: 70.0 seconds RetCode: 0 Status: OK PackageFile: sparseMatrixStats_1.19.0.tar.gz PackageFileSize: 687.8 KiB