Package: spatialDE Version: 1.13.0 Command: /Library/Frameworks/R.framework/Resources/bin/R CMD check --install=check:spatialDE.install-out.txt --library=/Library/Frameworks/R.framework/Resources/library --no-vignettes --timings spatialDE_1.13.0.tar.gz StartedAt: 2025-02-09 21:29:47 -0500 (Sun, 09 Feb 2025) EndedAt: 2025-02-09 21:31:36 -0500 (Sun, 09 Feb 2025) EllapsedTime: 109.2 seconds RetCode: 0 Status: OK CheckDir: spatialDE.Rcheck Warnings: 0