Package: spatialDE Version: 1.13.0 Command: /home/biocbuild/R/R/bin/R CMD INSTALL spatialDE StartedAt: 2025-01-29 19:50:26 -0000 (Wed, 29 Jan 2025) EndedAt: 2025-01-29 19:50:52 -0000 (Wed, 29 Jan 2025) EllapsedTime: 26.6 seconds RetCode: 0 Status: OK