Package: spatialDE Version: 1.13.0 Command: rm -rf spatialDE.buildbin-libdir && mkdir spatialDE.buildbin-libdir && /Users/biocbuild/BBS/utils/build-universal.sh spatialDE_1.13.0.tar.gz /Library/Frameworks/R.framework/Resources/bin/R spatialDE.buildbin-libdir StartedAt: 2025-02-10 01:18:04 -0500 (Mon, 10 Feb 2025) EndedAt: 2025-02-10 01:18:36 -0500 (Mon, 10 Feb 2025) EllapsedTime: 32.2 seconds RetCode: 0 Status: OK PackageFile: spatialDE_1.13.0.tgz PackageFileSize: 3.945 MiB