Package: spatialDE Version: 1.13.0 Command: /home/biocbuild/bbs-3.21-bioc/R/bin/R CMD build --keep-empty-dirs --no-resave-data spatialDE StartedAt: 2025-02-09 19:22:38 -0500 (Sun, 09 Feb 2025) EndedAt: 2025-02-09 19:25:04 -0500 (Sun, 09 Feb 2025) EllapsedTime: 146.1 seconds RetCode: 0 Status: OK PackageFile: spatialDE_1.13.0.tar.gz PackageFileSize: 3.712 MiB