Package: spatialDE Version: 1.13.0 Command: /home/biocbuild/bbs-3.21-bioc/R/bin/R CMD check --install=check:spatialDE.install-out.txt --library=/home/biocbuild/bbs-3.21-bioc/R/site-library --timings spatialDE_1.13.0.tar.gz StartedAt: 2025-02-10 02:52:36 -0500 (Mon, 10 Feb 2025) EndedAt: 2025-02-10 02:59:35 -0500 (Mon, 10 Feb 2025) EllapsedTime: 419.4 seconds RetCode: 0 Status: OK CheckDir: spatialDE.Rcheck Warnings: 0