Package: spatialDE Version: 1.13.0 Command: rm -rf spatialDE.buildbin-libdir && mkdir spatialDE.buildbin-libdir && E:\biocbuild\bbs-3.21-bioc\R\bin\R.exe CMD INSTALL --build --library=spatialDE.buildbin-libdir spatialDE_1.13.0.tar.gz StartedAt: 2025-02-04 08:59:36 -0500 (Tue, 04 Feb 2025) EndedAt: 2025-02-04 09:00:10 -0500 (Tue, 04 Feb 2025) EllapsedTime: 34.4 seconds RetCode: 0 Status: OK PackageFile: spatialDE_1.13.0.zip PackageFileSize: 2.17 MiB