Package: spatialDE Version: 1.13.0 Command: chmod a+r spatialDE -R && E:\biocbuild\bbs-3.21-bioc\R\bin\R.exe CMD build --keep-empty-dirs --no-resave-data spatialDE StartedAt: 2025-02-09 21:48:08 -0500 (Sun, 09 Feb 2025) EndedAt: 2025-02-09 21:51:14 -0500 (Sun, 09 Feb 2025) EllapsedTime: 185.3 seconds RetCode: 0 Status: OK PackageFile: spatialDE_1.13.0.tar.gz PackageFileSize: 2.099 MiB