Package: spatialDE Version: 1.13.0 Command: E:\biocbuild\bbs-3.21-bioc\R\bin\R.exe CMD check --no-multiarch --install=check:spatialDE.install-out.txt --library=E:\biocbuild\bbs-3.21-bioc\R\library --no-vignettes --timings spatialDE_1.13.0.tar.gz StartedAt: 2025-02-10 05:41:05 -0500 (Mon, 10 Feb 2025) EndedAt: 2025-02-10 05:46:26 -0500 (Mon, 10 Feb 2025) EllapsedTime: 321.7 seconds RetCode: 0 Status: OK CheckDir: spatialDE.Rcheck Warnings: 0