Package: spatialDE Version: 1.13.0 Command: E:\biocbuild\bbs-3.21-bioc\R\bin\R.exe CMD INSTALL spatialDE StartedAt: 2025-02-09 16:27:57 -0500 (Sun, 09 Feb 2025) EndedAt: 2025-02-09 16:28:33 -0500 (Sun, 09 Feb 2025) EllapsedTime: 36.0 seconds RetCode: 0 Status: OK