Package: spatialFDA Version: 0.99.8 Command: rm -rf spatialFDA.buildbin-libdir && mkdir spatialFDA.buildbin-libdir && /Users/biocbuild/BBS/utils/build-universal.sh spatialFDA_0.99.8.tar.gz /Library/Frameworks/R.framework/Resources/bin/R spatialFDA.buildbin-libdir StartedAt: 2025-02-09 22:32:02 -0500 (Sun, 09 Feb 2025) EndedAt: 2025-02-09 22:32:14 -0500 (Sun, 09 Feb 2025) EllapsedTime: 12.3 seconds RetCode: 0 Status: OK PackageFile: spatialFDA_0.99.8.tgz PackageFileSize: 3.746 MiB