Package: spatialFDA Version: 0.99.8 Command: /Library/Frameworks/R.framework/Resources/bin/R CMD build --keep-empty-dirs --no-resave-data spatialFDA StartedAt: 2025-02-09 17:41:25 -0500 (Sun, 09 Feb 2025) EndedAt: 2025-02-09 17:46:41 -0500 (Sun, 09 Feb 2025) EllapsedTime: 315.6 seconds RetCode: 0 Status: OK PackageFile: spatialFDA_0.99.8.tar.gz PackageFileSize: 3.687 MiB