Package: spatialFDA Version: 0.99.11 Command: /Library/Frameworks/R.framework/Resources/bin/R CMD check --install=check:spatialFDA.install-out.txt --library=/Library/Frameworks/R.framework/Resources/library --no-vignettes --timings spatialFDA_0.99.11.tar.gz StartedAt: 2025-02-12 21:35:42 -0500 (Wed, 12 Feb 2025) EndedAt: 2025-02-12 21:39:01 -0500 (Wed, 12 Feb 2025) EllapsedTime: 199.3 seconds RetCode: 0 Status: OK CheckDir: spatialFDA.Rcheck Warnings: 0