Package: spatialFDA Version: 0.99.8 Command: /Library/Frameworks/R.framework/Resources/bin/R CMD INSTALL spatialFDA StartedAt: 2025-02-09 15:29:37 -0500 (Sun, 09 Feb 2025) EndedAt: 2025-02-09 15:29:47 -0500 (Sun, 09 Feb 2025) EllapsedTime: 10.3 seconds RetCode: 0 Status: OK