Package: spatialFDA Version: 0.99.8 Command: /Library/Frameworks/R.framework/Resources/bin/R CMD INSTALL spatialFDA StartedAt: 2025-02-09 15:45:45 -0500 (Sun, 09 Feb 2025) EndedAt: 2025-02-09 15:46:20 -0500 (Sun, 09 Feb 2025) EllapsedTime: 35.2 seconds RetCode: 0 Status: OK