Package: spatialFDA Version: 0.99.8 Command: /home/biocbuild/bbs-3.21-bioc/R/bin/R CMD build --keep-empty-dirs --no-resave-data spatialFDA StartedAt: 2025-02-09 19:23:16 -0500 (Sun, 09 Feb 2025) EndedAt: 2025-02-09 19:33:23 -0500 (Sun, 09 Feb 2025) EllapsedTime: 607.7 seconds RetCode: 0 Status: OK PackageFile: spatialFDA_0.99.8.tar.gz PackageFileSize: 3.301 MiB