Package: spatialFDA Version: 0.99.8 Command: /home/biocbuild/bbs-3.21-bioc/R/bin/R CMD INSTALL spatialFDA StartedAt: 2025-02-09 15:22:16 -0500 (Sun, 09 Feb 2025) EndedAt: 2025-02-09 15:22:43 -0500 (Sun, 09 Feb 2025) EllapsedTime: 26.8 seconds RetCode: 0 Status: OK