Package: spatialFDA Version: 0.99.8 Command: chmod a+r spatialFDA -R && E:\biocbuild\bbs-3.21-bioc\R\bin\R.exe CMD build --keep-empty-dirs --no-resave-data spatialFDA StartedAt: 2025-02-09 21:48:42 -0500 (Sun, 09 Feb 2025) EndedAt: 2025-02-09 21:59:02 -0500 (Sun, 09 Feb 2025) EllapsedTime: 619.7 seconds RetCode: 0 Status: OK PackageFile: spatialFDA_0.99.8.tar.gz PackageFileSize: 721.9 KiB