Package: spatialFDA Version: 0.99.8 Command: E:\biocbuild\bbs-3.21-bioc\R\bin\R.exe CMD check --no-multiarch --install=check:spatialFDA.install-out.txt --library=E:\biocbuild\bbs-3.21-bioc\R\library --no-vignettes --timings spatialFDA_0.99.8.tar.gz StartedAt: 2025-02-10 05:41:39 -0500 (Mon, 10 Feb 2025) EndedAt: 2025-02-10 05:50:24 -0500 (Mon, 10 Feb 2025) EllapsedTime: 524.6 seconds RetCode: 0 Status: OK CheckDir: spatialFDA.Rcheck Warnings: 0