Package: spatialSimGP Version: 1.1.0 Command: rm -rf spatialSimGP.buildbin-libdir && mkdir spatialSimGP.buildbin-libdir && /Users/biocbuild/BBS/utils/build-universal.sh spatialSimGP_1.1.0.tar.gz /Library/Frameworks/R.framework/Resources/bin/R spatialSimGP.buildbin-libdir StartedAt: 2025-02-09 22:32:05 -0500 (Sun, 09 Feb 2025) EndedAt: 2025-02-09 22:32:16 -0500 (Sun, 09 Feb 2025) EllapsedTime: 11.3 seconds RetCode: 0 Status: OK PackageFile: spatialSimGP_1.1.0.tgz PackageFileSize: 744.7 KiB