Package: spatialSimGP Version: 1.1.0 Command: /Library/Frameworks/R.framework/Resources/bin/R CMD build --keep-empty-dirs --no-resave-data spatialSimGP StartedAt: 2025-02-09 17:41:50 -0500 (Sun, 09 Feb 2025) EndedAt: 2025-02-09 17:42:18 -0500 (Sun, 09 Feb 2025) EllapsedTime: 28.3 seconds RetCode: 0 Status: OK PackageFile: spatialSimGP_1.1.0.tar.gz PackageFileSize: 735.9 KiB