Package: spatialSimGP Version: 1.1.0 Command: /Library/Frameworks/R.framework/Resources/bin/R CMD check --install=check:spatialSimGP.install-out.txt --library=/Library/Frameworks/R.framework/Resources/library --no-vignettes --timings spatialSimGP_1.1.0.tar.gz StartedAt: 2025-02-03 22:07:19 -0500 (Mon, 03 Feb 2025) EndedAt: 2025-02-03 22:08:33 -0500 (Mon, 03 Feb 2025) EllapsedTime: 74.8 seconds RetCode: 0 Status: OK CheckDir: spatialSimGP.Rcheck Warnings: 0