Package: spatialSimGP Version: 1.1.0 Command: /Library/Frameworks/R.framework/Resources/bin/R CMD INSTALL spatialSimGP StartedAt: 2025-02-03 15:43:47 -0500 (Mon, 03 Feb 2025) EndedAt: 2025-02-03 15:43:56 -0500 (Mon, 03 Feb 2025) EllapsedTime: 9.1 seconds RetCode: 0 Status: OK