Package: spatialSimGP Version: 1.1.0 Command: /home/biocbuild/R/R/bin/R CMD build --keep-empty-dirs --no-resave-data spatialSimGP StartedAt: 2025-01-28 02:38:54 -0000 (Tue, 28 Jan 2025) EndedAt: 2025-01-28 02:40:11 -0000 (Tue, 28 Jan 2025) EllapsedTime: 77.0 seconds RetCode: 0 Status: OK PackageFile: spatialSimGP_1.1.0.tar.gz PackageFileSize: 539 KiB