Package: spatialSimGP Version: 1.1.0 Command: /Library/Frameworks/R.framework/Resources/bin/R CMD build --keep-empty-dirs --no-resave-data spatialSimGP StartedAt: 2025-02-09 18:33:38 -0500 (Sun, 09 Feb 2025) EndedAt: 2025-02-09 18:34:51 -0500 (Sun, 09 Feb 2025) EllapsedTime: 73.0 seconds RetCode: 0 Status: OK PackageFile: spatialSimGP_1.1.0.tar.gz PackageFileSize: 732.5 KiB