Package: spatialSimGP Version: 1.1.0 Command: /home/biocbuild/bbs-3.21-bioc/R/bin/R CMD build --keep-empty-dirs --no-resave-data spatialSimGP StartedAt: 2025-02-09 19:24:09 -0500 (Sun, 09 Feb 2025) EndedAt: 2025-02-09 19:25:14 -0500 (Sun, 09 Feb 2025) EllapsedTime: 65.0 seconds RetCode: 0 Status: OK PackageFile: spatialSimGP_1.1.0.tar.gz PackageFileSize: 694.6 KiB