Package: spatialSimGP Version: 1.1.0 Command: chmod a+r spatialSimGP -R && E:\biocbuild\bbs-3.21-bioc\R\bin\R.exe CMD build --keep-empty-dirs --no-resave-data spatialSimGP StartedAt: 2025-02-09 21:49:54 -0500 (Sun, 09 Feb 2025) EndedAt: 2025-02-09 21:51:11 -0500 (Sun, 09 Feb 2025) EllapsedTime: 76.9 seconds RetCode: 0 Status: OK PackageFile: spatialSimGP_1.1.0.tar.gz PackageFileSize: 363.2 KiB