Package: spatialSimGP Version: 1.1.0 Command: E:\biocbuild\bbs-3.21-bioc\R\bin\R.exe CMD check --no-multiarch --install=check:spatialSimGP.install-out.txt --library=E:\biocbuild\bbs-3.21-bioc\R\library --no-vignettes --timings spatialSimGP_1.1.0.tar.gz StartedAt: 2025-02-05 06:07:25 -0500 (Wed, 05 Feb 2025) EndedAt: 2025-02-05 06:11:16 -0500 (Wed, 05 Feb 2025) EllapsedTime: 230.7 seconds RetCode: 0 Status: OK CheckDir: spatialSimGP.Rcheck Warnings: 0