Package: spicyR Version: 1.19.3 Command: /Library/Frameworks/R.framework/Resources/bin/R CMD build --keep-empty-dirs --no-resave-data spicyR StartedAt: 2025-02-12 17:43:14 -0500 (Wed, 12 Feb 2025) EndedAt: 2025-02-12 17:45:02 -0500 (Wed, 12 Feb 2025) EllapsedTime: 108.2 seconds RetCode: 0 Status: OK PackageFile: spicyR_1.19.3.tar.gz PackageFileSize: 3.278 MiB