Package: spicyR Version: 1.19.3 Command: /Library/Frameworks/R.framework/Resources/bin/R CMD INSTALL spicyR StartedAt: 2025-02-12 15:28:32 -0500 (Wed, 12 Feb 2025) EndedAt: 2025-02-12 15:28:46 -0500 (Wed, 12 Feb 2025) EllapsedTime: 14.4 seconds RetCode: 0 Status: OK