Package: spicyR Version: 1.19.3 Command: rm -rf spicyR.buildbin-libdir && mkdir spicyR.buildbin-libdir && /Users/biocbuild/BBS/utils/build-universal.sh spicyR_1.19.3.tar.gz /Library/Frameworks/R.framework/Resources/bin/R spicyR.buildbin-libdir StartedAt: 2025-02-10 01:18:33 -0500 (Mon, 10 Feb 2025) EndedAt: 2025-02-10 01:19:26 -0500 (Mon, 10 Feb 2025) EllapsedTime: 53.4 seconds RetCode: 0 Status: OK PackageFile: spicyR_1.19.3.tgz PackageFileSize: 3.81 MiB